Package: marr Version: 1.17.0 Command: rm -rf marr.buildbin-libdir && mkdir marr.buildbin-libdir && /Users/biocbuild/BBS/utils/build-universal.sh marr_1.17.0.tar.gz /Library/Frameworks/R.framework/Resources/bin/R marr.buildbin-libdir StartedAt: 2025-02-05 00:47:05 -0500 (Wed, 05 Feb 2025) EndedAt: 2025-02-05 00:47:49 -0500 (Wed, 05 Feb 2025) EllapsedTime: 44.1 seconds RetCode: 0 Status: OK PackageFile: marr_1.17.0.tgz PackageFileSize: 807.5 KiB