Package: marr Version: 1.17.0 Command: /Library/Frameworks/R.framework/Resources/bin/R CMD build --keep-empty-dirs --no-resave-data marr StartedAt: 2025-02-04 17:13:25 -0500 (Tue, 04 Feb 2025) EndedAt: 2025-02-04 17:14:15 -0500 (Tue, 04 Feb 2025) EllapsedTime: 50.4 seconds RetCode: 0 Status: OK PackageFile: marr_1.17.0.tar.gz PackageFileSize: 591 KiB