Package: marr Version: 1.17.0 Command: /home/biocbuild/bbs-3.21-bioc/R/bin/R CMD build --keep-empty-dirs --no-resave-data marr StartedAt: 2025-02-03 18:04:24 -0500 (Mon, 03 Feb 2025) EndedAt: 2025-02-03 18:05:10 -0500 (Mon, 03 Feb 2025) EllapsedTime: 46.0 seconds RetCode: 0 Status: OK PackageFile: marr_1.17.0.tar.gz PackageFileSize: 619.8 KiB