Package: marr Version: 1.17.0 Command: /home/biocbuild/bbs-3.21-bioc/R/bin/R CMD INSTALL marr StartedAt: 2025-02-03 15:28:22 -0500 (Mon, 03 Feb 2025) EndedAt: 2025-02-03 15:28:52 -0500 (Mon, 03 Feb 2025) EllapsedTime: 29.8 seconds RetCode: 0 Status: OK