Package: marr Version: 1.17.0 Command: rm -rf marr.buildbin-libdir && mkdir marr.buildbin-libdir && E:\biocbuild\bbs-3.21-bioc\R\bin\R.exe CMD INSTALL --build --library=marr.buildbin-libdir marr_1.17.0.tar.gz StartedAt: 2025-02-04 08:17:35 -0500 (Tue, 04 Feb 2025) EndedAt: 2025-02-04 08:18:19 -0500 (Tue, 04 Feb 2025) EllapsedTime: 44.1 seconds RetCode: 0 Status: OK PackageFile: marr_1.17.0.zip PackageFileSize: 1.091 MiB