Package: marr Version: 1.17.0 Command: chmod a+r marr -R && E:\biocbuild\bbs-3.21-bioc\R\bin\R.exe CMD build --keep-empty-dirs --no-resave-data marr StartedAt: 2025-02-09 19:38:29 -0500 (Sun, 09 Feb 2025) EndedAt: 2025-02-09 19:39:53 -0500 (Sun, 09 Feb 2025) EllapsedTime: 84.7 seconds RetCode: 0 Status: OK PackageFile: marr_1.17.0.tar.gz PackageFileSize: 584.2 KiB