Package: marr Version: 1.17.0 Command: E:\biocbuild\bbs-3.21-bioc\R\bin\R.exe CMD INSTALL marr StartedAt: 2025-02-09 16:06:46 -0500 (Sun, 09 Feb 2025) EndedAt: 2025-02-09 16:08:13 -0500 (Sun, 09 Feb 2025) EllapsedTime: 87.4 seconds RetCode: 0 Status: OK