Package: marray Version: 1.85.0 Command: rm -rf marray.buildbin-libdir && mkdir marray.buildbin-libdir && /Users/biocbuild/BBS/utils/build-universal.sh marray_1.85.0.tar.gz /Library/Frameworks/R.framework/Resources/bin/R marray.buildbin-libdir StartedAt: 2025-02-10 01:00:49 -0500 (Mon, 10 Feb 2025) EndedAt: 2025-02-10 01:01:05 -0500 (Mon, 10 Feb 2025) EllapsedTime: 16.2 seconds RetCode: 0 Status: OK PackageFile: marray_1.85.0.tgz PackageFileSize: 6.069 MiB