Package: marray Version: 1.85.0 Command: /Library/Frameworks/R.framework/Resources/bin/R CMD build --keep-empty-dirs --no-resave-data marray StartedAt: 2025-02-03 17:17:37 -0500 (Mon, 03 Feb 2025) EndedAt: 2025-02-03 17:18:40 -0500 (Mon, 03 Feb 2025) EllapsedTime: 62.9 seconds RetCode: 0 Status: OK PackageFile: marray_1.85.0.tar.gz PackageFileSize: 5.63 MiB