Package: marray Version: 1.85.0 Command: /Library/Frameworks/R.framework/Resources/bin/R CMD check --install=check:marray.install-out.txt --library=/Library/Frameworks/R.framework/Resources/library --no-vignettes --timings marray_1.85.0.tar.gz StartedAt: 2025-02-09 21:39:45 -0500 (Sun, 09 Feb 2025) EndedAt: 2025-02-09 21:40:55 -0500 (Sun, 09 Feb 2025) EllapsedTime: 70.1 seconds RetCode: 0 Status: OK CheckDir: marray.Rcheck Warnings: 0