Package: marray Version: 1.85.0 Command: /Library/Frameworks/R.framework/Resources/bin/R CMD INSTALL marray StartedAt: 2025-02-09 15:06:50 -0500 (Sun, 09 Feb 2025) EndedAt: 2025-02-09 15:07:23 -0500 (Sun, 09 Feb 2025) EllapsedTime: 32.4 seconds RetCode: 0 Status: OK