Package: marray Version: 1.85.0 Command: /home/biocbuild/bbs-3.21-bioc/R/bin/R CMD check --install=check:marray.install-out.txt --library=/home/biocbuild/bbs-3.21-bioc/R/site-library --timings marray_1.85.0.tar.gz StartedAt: 2025-02-09 23:45:27 -0500 (Sun, 09 Feb 2025) EndedAt: 2025-02-09 23:46:44 -0500 (Sun, 09 Feb 2025) EllapsedTime: 77.1 seconds RetCode: 0 Status: OK CheckDir: marray.Rcheck Warnings: 0