Package: marray Version: 1.85.0 Command: /home/biocbuild/bbs-3.21-bioc/R/bin/R CMD INSTALL marray StartedAt: 2025-02-03 15:12:31 -0500 (Mon, 03 Feb 2025) EndedAt: 2025-02-03 15:12:48 -0500 (Mon, 03 Feb 2025) EllapsedTime: 16.9 seconds RetCode: 0 Status: OK