Package: marray Version: 1.85.0 Command: E:\biocbuild\bbs-3.21-bioc\R\bin\R.exe CMD INSTALL marray StartedAt: 2025-02-04 15:23:10 -0500 (Tue, 04 Feb 2025) EndedAt: 2025-02-04 15:24:26 -0500 (Tue, 04 Feb 2025) EllapsedTime: 76.3 seconds RetCode: 0 Status: OK