Package: maskBAD Version: 1.51.0 Command: /Library/Frameworks/R.framework/Resources/bin/R CMD build --keep-empty-dirs --no-resave-data maskBAD StartedAt: 2025-02-09 16:48:38 -0500 (Sun, 09 Feb 2025) EndedAt: 2025-02-09 16:49:13 -0500 (Sun, 09 Feb 2025) EllapsedTime: 34.4 seconds RetCode: 0 Status: OK PackageFile: maskBAD_1.51.0.tar.gz PackageFileSize: 1.543 MiB