Package: maskBAD Version: 1.51.0 Command: /Library/Frameworks/R.framework/Resources/bin/R CMD check --install=check:maskBAD.install-out.txt --library=/Library/Frameworks/R.framework/Resources/library --no-vignettes --timings maskBAD_1.51.0.tar.gz StartedAt: 2025-02-04 19:57:13 -0500 (Tue, 04 Feb 2025) EndedAt: 2025-02-04 19:57:49 -0500 (Tue, 04 Feb 2025) EllapsedTime: 35.4 seconds RetCode: 0 Status: OK CheckDir: maskBAD.Rcheck Warnings: 0