Package: maskBAD Version: 1.51.0 Command: /Library/Frameworks/R.framework/Resources/bin/R CMD INSTALL maskBAD StartedAt: 2025-02-04 15:04:44 -0500 (Tue, 04 Feb 2025) EndedAt: 2025-02-04 15:04:48 -0500 (Tue, 04 Feb 2025) EllapsedTime: 4.7 seconds RetCode: 0 Status: OK