Package: maskBAD Version: 1.51.0 Command: /home/biocbuild/R/R/bin/R CMD build --keep-empty-dirs --no-resave-data maskBAD StartedAt: 2025-01-29 00:00:56 -0000 (Wed, 29 Jan 2025) EndedAt: 2025-01-29 00:02:43 -0000 (Wed, 29 Jan 2025) EllapsedTime: 107.0 seconds RetCode: 0 Status: OK PackageFile: maskBAD_1.51.0.tar.gz PackageFileSize: 1.529 MiB