Package: maskBAD Version: 1.51.0 Command: /home/biocbuild/R/R/bin/R CMD INSTALL maskBAD StartedAt: 2025-01-29 19:39:58 -0000 (Wed, 29 Jan 2025) EndedAt: 2025-01-29 19:40:13 -0000 (Wed, 29 Jan 2025) EllapsedTime: 15.5 seconds RetCode: 0 Status: OK