Package: maskBAD Version: 1.51.0 Command: rm -rf maskBAD.buildbin-libdir && mkdir maskBAD.buildbin-libdir && /Users/biocbuild/BBS/utils/build-universal.sh maskBAD_1.51.0.tar.gz /Library/Frameworks/R.framework/Resources/bin/R maskBAD.buildbin-libdir StartedAt: 2025-02-10 01:00:52 -0500 (Mon, 10 Feb 2025) EndedAt: 2025-02-10 01:01:12 -0500 (Mon, 10 Feb 2025) EllapsedTime: 19.7 seconds RetCode: 0 Status: OK PackageFile: maskBAD_1.51.0.tgz PackageFileSize: 1.584 MiB