Package: maskBAD Version: 1.51.0 Command: rm -rf maskBAD.buildbin-libdir && mkdir maskBAD.buildbin-libdir && E:\biocbuild\bbs-3.21-bioc\R\bin\R.exe CMD INSTALL --build --library=maskBAD.buildbin-libdir maskBAD_1.51.0.tar.gz StartedAt: 2025-02-04 08:17:46 -0500 (Tue, 04 Feb 2025) EndedAt: 2025-02-04 08:18:01 -0500 (Tue, 04 Feb 2025) EllapsedTime: 15.3 seconds RetCode: 0 Status: OK PackageFile: maskBAD_1.51.0.zip PackageFileSize: 1.416 MiB