Package: maskBAD Version: 1.51.0 Command: E:\biocbuild\bbs-3.21-bioc\R\bin\R.exe CMD INSTALL maskBAD StartedAt: 2025-02-03 15:54:11 -0500 (Mon, 03 Feb 2025) EndedAt: 2025-02-03 15:54:29 -0500 (Mon, 03 Feb 2025) EllapsedTime: 17.9 seconds RetCode: 0 Status: OK