Package: mastR Version: 1.7.0 Command: rm -rf mastR.buildbin-libdir && mkdir mastR.buildbin-libdir && /Users/biocbuild/BBS/utils/build-universal.sh mastR_1.7.0.tar.gz /Library/Frameworks/R.framework/Resources/bin/R mastR.buildbin-libdir StartedAt: 2025-02-09 22:19:48 -0500 (Sun, 09 Feb 2025) EndedAt: 2025-02-09 22:20:05 -0500 (Sun, 09 Feb 2025) EllapsedTime: 17.3 seconds RetCode: 0 Status: OK PackageFile: mastR_1.7.0.tgz PackageFileSize: 3.312 MiB