Package: mastR Version: 1.7.0 Command: /Library/Frameworks/R.framework/Resources/bin/R CMD build --keep-empty-dirs --no-resave-data mastR StartedAt: 2025-02-09 16:48:51 -0500 (Sun, 09 Feb 2025) EndedAt: 2025-02-09 16:49:52 -0500 (Sun, 09 Feb 2025) EllapsedTime: 60.6 seconds RetCode: 0 Status: OK PackageFile: mastR_1.7.0.tar.gz PackageFileSize: 3.111 MiB