Package: mastR Version: 1.7.0 Command: /home/biocbuild/bbs-3.21-bioc/R/bin/R CMD INSTALL mastR StartedAt: 2025-02-09 15:31:32 -0500 (Sun, 09 Feb 2025) EndedAt: 2025-02-09 15:32:12 -0500 (Sun, 09 Feb 2025) EllapsedTime: 40.0 seconds RetCode: 0 Status: OK