Package: mastR Version: 1.7.0 Command: chmod a+r mastR -R && E:\biocbuild\bbs-3.21-bioc\R\bin\R.exe CMD build --keep-empty-dirs --no-resave-data mastR StartedAt: 2025-02-09 19:40:08 -0500 (Sun, 09 Feb 2025) EndedAt: 2025-02-09 19:43:51 -0500 (Sun, 09 Feb 2025) EllapsedTime: 223.0 seconds RetCode: 0 Status: OK PackageFile: mastR_1.7.0.tar.gz PackageFileSize: 1.821 MiB