Package: matchBox Version: 1.49.0 Command: /Library/Frameworks/R.framework/Resources/bin/R CMD check --install=check:matchBox.install-out.txt --library=/Library/Frameworks/R.framework/Resources/library --no-vignettes --timings matchBox_1.49.0.tar.gz StartedAt: 2025-02-09 19:56:01 -0500 (Sun, 09 Feb 2025) EndedAt: 2025-02-09 19:56:12 -0500 (Sun, 09 Feb 2025) EllapsedTime: 11.1 seconds RetCode: 0 Status: OK CheckDir: matchBox.Rcheck Warnings: 0