Package: matchBox Version: 1.49.0 Command: /home/biocbuild/R/R/bin/R CMD build --keep-empty-dirs --no-resave-data matchBox StartedAt: 2025-01-29 00:01:32 -0000 (Wed, 29 Jan 2025) EndedAt: 2025-01-29 00:01:40 -0000 (Wed, 29 Jan 2025) EllapsedTime: 8.0 seconds RetCode: 0 Status: OK PackageFile: matchBox_1.49.0.tar.gz PackageFileSize: 607.5 KiB