Package: matchBox Version: 1.49.0 Command: rm -rf matchBox.buildbin-libdir && mkdir matchBox.buildbin-libdir && /Users/biocbuild/BBS/utils/build-universal.sh matchBox_1.49.0.tar.gz /Library/Frameworks/R.framework/Resources/bin/R matchBox.buildbin-libdir StartedAt: 2025-02-10 01:01:01 -0500 (Mon, 10 Feb 2025) EndedAt: 2025-02-10 01:01:08 -0500 (Mon, 10 Feb 2025) EllapsedTime: 7.0 seconds RetCode: 0 Status: OK PackageFile: matchBox_1.49.0.tgz PackageFileSize: 634.1 KiB