Package: matchBox Version: 1.49.0 Command: /Library/Frameworks/R.framework/Resources/bin/R CMD build --keep-empty-dirs --no-resave-data matchBox StartedAt: 2025-02-09 17:18:45 -0500 (Sun, 09 Feb 2025) EndedAt: 2025-02-09 17:18:57 -0500 (Sun, 09 Feb 2025) EllapsedTime: 12.5 seconds RetCode: 0 Status: OK PackageFile: matchBox_1.49.0.tar.gz PackageFileSize: 605.5 KiB