Package: matchBox Version: 1.49.0 Command: /Library/Frameworks/R.framework/Resources/bin/R CMD check --install=check:matchBox.install-out.txt --library=/Library/Frameworks/R.framework/Resources/library --no-vignettes --timings matchBox_1.49.0.tar.gz StartedAt: 2025-02-09 21:40:55 -0500 (Sun, 09 Feb 2025) EndedAt: 2025-02-09 21:41:23 -0500 (Sun, 09 Feb 2025) EllapsedTime: 27.7 seconds RetCode: 0 Status: OK CheckDir: matchBox.Rcheck Warnings: 0