Package: matchBox Version: 1.49.0 Command: /home/biocbuild/bbs-3.21-bioc/R/bin/R CMD build --keep-empty-dirs --no-resave-data matchBox StartedAt: 2025-02-09 17:56:50 -0500 (Sun, 09 Feb 2025) EndedAt: 2025-02-09 17:56:57 -0500 (Sun, 09 Feb 2025) EllapsedTime: 7.0 seconds RetCode: 0 Status: OK PackageFile: matchBox_1.49.0.tar.gz PackageFileSize: 605.3 KiB