Package: matchBox Version: 1.49.0 Command: /home/biocbuild/bbs-3.21-bioc/R/bin/R CMD check --install=check:matchBox.install-out.txt --library=/home/biocbuild/bbs-3.21-bioc/R/site-library --timings matchBox_1.49.0.tar.gz StartedAt: 2025-02-09 23:48:08 -0500 (Sun, 09 Feb 2025) EndedAt: 2025-02-09 23:48:29 -0500 (Sun, 09 Feb 2025) EllapsedTime: 21.0 seconds RetCode: 0 Status: OK CheckDir: matchBox.Rcheck Warnings: 0