Package: matchBox Version: 1.49.0 Command: /home/biocbuild/bbs-3.21-bioc/R/bin/R CMD INSTALL matchBox StartedAt: 2025-02-12 15:03:07 -0500 (Wed, 12 Feb 2025) EndedAt: 2025-02-12 15:03:17 -0500 (Wed, 12 Feb 2025) EllapsedTime: 9.8 seconds RetCode: 0 Status: OK