Package: matchBox Version: 1.49.0 Command: rm -rf matchBox.buildbin-libdir && mkdir matchBox.buildbin-libdir && E:\biocbuild\bbs-3.21-bioc\R\bin\R.exe CMD INSTALL --build --library=matchBox.buildbin-libdir matchBox_1.49.0.tar.gz StartedAt: 2025-02-10 08:04:41 -0500 (Mon, 10 Feb 2025) EndedAt: 2025-02-10 08:04:55 -0500 (Mon, 10 Feb 2025) EllapsedTime: 13.6 seconds RetCode: 0 Status: OK PackageFile: matchBox_1.49.0.zip PackageFileSize: 637.6 KiB