Package: matchBox Version: 1.49.0 Command: E:\biocbuild\bbs-3.21-bioc\R\bin\R.exe CMD check --no-multiarch --install=check:matchBox.install-out.txt --library=E:\biocbuild\bbs-3.21-bioc\R\library --no-vignettes --timings matchBox_1.49.0.tar.gz StartedAt: 2025-02-10 02:33:45 -0500 (Mon, 10 Feb 2025) EndedAt: 2025-02-10 02:34:12 -0500 (Mon, 10 Feb 2025) EllapsedTime: 26.7 seconds RetCode: 0 Status: OK CheckDir: matchBox.Rcheck Warnings: 0