Package: matchBox Version: 1.49.0 Command: E:\biocbuild\bbs-3.21-bioc\R\bin\R.exe CMD INSTALL matchBox StartedAt: 2025-02-09 15:18:24 -0500 (Sun, 09 Feb 2025) EndedAt: 2025-02-09 15:18:39 -0500 (Sun, 09 Feb 2025) EllapsedTime: 14.6 seconds RetCode: 0 Status: OK