Package: matter Version: 2.9.1 Command: rm -rf matter.buildbin-libdir && mkdir matter.buildbin-libdir && /Users/biocbuild/BBS/utils/build-universal.sh matter_2.9.1.tar.gz /Library/Frameworks/R.framework/Resources/bin/R matter.buildbin-libdir StartedAt: 2025-02-10 01:01:02 -0500 (Mon, 10 Feb 2025) EndedAt: 2025-02-10 01:02:06 -0500 (Mon, 10 Feb 2025) EllapsedTime: 63.8 seconds RetCode: 0 Status: OK PackageFile: matter_2.9.1.tgz PackageFileSize: 4.982 MiB