Package: matter Version: 2.9.1 Command: /Library/Frameworks/R.framework/Resources/bin/R CMD INSTALL matter StartedAt: 2025-02-04 15:14:27 -0500 (Tue, 04 Feb 2025) EndedAt: 2025-02-04 15:15:24 -0500 (Tue, 04 Feb 2025) EllapsedTime: 57.3 seconds RetCode: 0 Status: OK