Package: matter Version: 2.9.1 Command: /home/biocbuild/bbs-3.21-bioc/R/bin/R CMD build --keep-empty-dirs --no-resave-data matter StartedAt: 2025-02-04 17:54:51 -0500 (Tue, 04 Feb 2025) EndedAt: 2025-02-04 17:56:08 -0500 (Tue, 04 Feb 2025) EllapsedTime: 77.1 seconds RetCode: 0 Status: OK PackageFile: matter_2.9.1.tar.gz PackageFileSize: 3.048 MiB