Package: matter Version: 2.9.1 Command: /home/biocbuild/bbs-3.21-bioc/R/bin/R CMD INSTALL matter StartedAt: 2025-02-04 15:10:16 -0500 (Tue, 04 Feb 2025) EndedAt: 2025-02-04 15:11:04 -0500 (Tue, 04 Feb 2025) EllapsedTime: 47.9 seconds RetCode: 0 Status: OK