Package: matter Version: 2.9.1 Command: chmod a+r matter -R && E:\biocbuild\bbs-3.21-bioc\R\bin\R.exe CMD build --keep-empty-dirs --no-resave-data matter StartedAt: 2025-02-04 19:43:17 -0500 (Tue, 04 Feb 2025) EndedAt: 2025-02-04 19:45:58 -0500 (Tue, 04 Feb 2025) EllapsedTime: 160.6 seconds RetCode: 0 Status: OK PackageFile: matter_2.9.1.tar.gz PackageFileSize: 1.408 MiB