Package: matter Version: 2.9.1 Command: E:\biocbuild\bbs-3.21-bioc\R\bin\R.exe CMD INSTALL matter StartedAt: 2025-02-04 15:38:53 -0500 (Tue, 04 Feb 2025) EndedAt: 2025-02-04 15:41:53 -0500 (Tue, 04 Feb 2025) EllapsedTime: 180.1 seconds RetCode: 0 Status: OK