Package: mbQTL Version: 1.7.0 Command: /Library/Frameworks/R.framework/Resources/bin/R CMD build --keep-empty-dirs --no-resave-data mbQTL StartedAt: 2025-02-09 16:49:49 -0500 (Sun, 09 Feb 2025) EndedAt: 2025-02-09 16:50:14 -0500 (Sun, 09 Feb 2025) EllapsedTime: 25.3 seconds RetCode: 0 Status: OK PackageFile: mbQTL_1.7.0.tar.gz PackageFileSize: 1.46 MiB