Package: mbQTL Version: 1.7.0 Command: /home/biocbuild/R/R/bin/R CMD build --keep-empty-dirs --no-resave-data mbQTL StartedAt: 2025-01-29 00:04:22 -0000 (Wed, 29 Jan 2025) EndedAt: 2025-01-29 00:06:09 -0000 (Wed, 29 Jan 2025) EllapsedTime: 107.0 seconds RetCode: 0 Status: OK PackageFile: mbQTL_1.7.0.tar.gz PackageFileSize: 926.5 KiB