Package: mbQTL Version: 1.7.0 Command: /home/biocbuild/R/R/bin/R CMD INSTALL mbQTL StartedAt: 2025-01-29 20:26:02 -0000 (Wed, 29 Jan 2025) EndedAt: 2025-01-29 20:26:15 -0000 (Wed, 29 Jan 2025) EllapsedTime: 13.2 seconds RetCode: 0 Status: OK