Package: mbQTL Version: 1.7.0 Command: /Library/Frameworks/R.framework/Resources/bin/R CMD build --keep-empty-dirs --no-resave-data mbQTL StartedAt: 2025-02-09 17:19:37 -0500 (Sun, 09 Feb 2025) EndedAt: 2025-02-09 17:21:00 -0500 (Sun, 09 Feb 2025) EllapsedTime: 82.2 seconds RetCode: 0 Status: OK PackageFile: mbQTL_1.7.0.tar.gz PackageFileSize: 1.459 MiB