Package: mbQTL Version: 1.7.0 Command: /home/biocbuild/bbs-3.21-bioc/R/bin/R CMD build --keep-empty-dirs --no-resave-data mbQTL StartedAt: 2025-02-03 18:07:19 -0500 (Mon, 03 Feb 2025) EndedAt: 2025-02-03 18:08:26 -0500 (Mon, 03 Feb 2025) EllapsedTime: 66.1 seconds RetCode: 0 Status: OK PackageFile: mbQTL_1.7.0.tar.gz PackageFileSize: 1.774 MiB