Package: mbQTL Version: 1.7.0 Command: /home/biocbuild/bbs-3.21-bioc/R/bin/R CMD INSTALL mbQTL StartedAt: 2025-02-09 15:13:36 -0500 (Sun, 09 Feb 2025) EndedAt: 2025-02-09 15:13:46 -0500 (Sun, 09 Feb 2025) EllapsedTime: 10.6 seconds RetCode: 0 Status: OK