Package: mbQTL Version: 1.7.0 Command: E:\biocbuild\bbs-3.21-bioc\R\bin\R.exe CMD check --no-multiarch --install=check:mbQTL.install-out.txt --library=E:\biocbuild\bbs-3.21-bioc\R\library --no-vignettes --timings mbQTL_1.7.0.tar.gz StartedAt: 2025-02-10 02:35:32 -0500 (Mon, 10 Feb 2025) EndedAt: 2025-02-10 02:37:16 -0500 (Mon, 10 Feb 2025) EllapsedTime: 104.1 seconds RetCode: 0 Status: OK CheckDir: mbQTL.Rcheck Warnings: 0